BEGIN:VCALENDAR
VERSION:2.0
PRODID:-//База знаний - ECPv6.11.2.1//NONSGML v1.0//EN
CALSCALE:GREGORIAN
METHOD:PUBLISH
X-ORIGINAL-URL:https://portal.nikor-n.ru
X-WR-CALDESC:Мероприятия для База знаний
REFRESH-INTERVAL;VALUE=DURATION:PT1H
X-Robots-Tag:noindex
X-PUBLISHED-TTL:PT1H
BEGIN:VTIMEZONE
TZID:Europe/Moscow
BEGIN:STANDARD
TZOFFSETFROM:+0300
TZOFFSETTO:+0300
TZNAME:MSK
DTSTART:20210101T000000
END:STANDARD
END:VTIMEZONE
BEGIN:VEVENT
DTSTART;VALUE=DATE:20210225
DTEND;VALUE=DATE:20210226
DTSTAMP:20260421T143550
CREATED:20210125T201230Z
LAST-MODIFIED:20211224T081301Z
UID:8-1614211200-1614297599@portal.nikor-n.ru
SUMMARY:Тестовое событие
DESCRIPTION:
URL:https://portal.nikor-n.ru/event/testovoe-sobytie/
CATEGORIES:Мероприятие
END:VEVENT
END:VCALENDAR